BEGIN:VCALENDAR
VERSION:2.0
PRODID:icalendar-ruby
CALSCALE:GREGORIAN
BEGIN:VEVENT
DTSTAMP:20260419T164304Z
UID:28210904-8e4d-4856-893d-3fe06c418252
DTSTART;VALUE=DATE:20211104
DESCRIPTION:Property ID# 519645\, Locatoin: Harcourts\, 516 High Street Low
 er Hutt \, Time: 4:00PM
SUMMARY:Auction for 
END:VEVENT
END:VCALENDAR
