BEGIN:VCALENDAR
VERSION:2.0
PRODID:icalendar-ruby
CALSCALE:GREGORIAN
BEGIN:VEVENT
DTSTAMP:20260419T164957Z
UID:e7db51f8-9072-41af-9cb7-77584ced1280
DTSTART;VALUE=DATE:20211103
DESCRIPTION:Property ID# 518971\, Locatoin: Harcourts\, 516 High Street Low
 er Hutt \, Time: 3:00PM
SUMMARY:Auction for 
END:VEVENT
END:VCALENDAR
