BEGIN:VCALENDAR
VERSION:2.0
PRODID:icalendar-ruby
CALSCALE:GREGORIAN
BEGIN:VEVENT
DTSTAMP:20260419T163533Z
UID:5136567d-4c2b-4a88-bcfc-e082eee1b810
DTSTART;VALUE=DATE:20210414
DESCRIPTION:Property ID# 506353\, Locatoin: Harcourts\, 516 High St\, Lower
  Hutt\, Time: 12:00PM
SUMMARY:Auction for 
END:VEVENT
END:VCALENDAR
