BEGIN:VCALENDAR
VERSION:2.0
PRODID:icalendar-ruby
CALSCALE:GREGORIAN
BEGIN:VEVENT
DTSTAMP:20260423T074929Z
UID:1dd732a6-b674-45b8-8d8b-5ffe7c7cb96c
DTSTART;VALUE=DATE:20210408
DESCRIPTION:Property ID# 505119\, Locatoin: Harcourts\, 516 High St\, Lower
  Hutt\, Time: 12:00PM
SUMMARY:Auction for 
END:VEVENT
END:VCALENDAR
