BEGIN:VCALENDAR
VERSION:2.0
PRODID:icalendar-ruby
CALSCALE:GREGORIAN
BEGIN:VEVENT
DTSTAMP:20260422T080625Z
UID:905042bd-37fe-49cb-84a9-6d555b1a867f
DTSTART;VALUE=DATE:20210330
DESCRIPTION:Property ID# 504654\, Locatoin: 897 Fergusson Drive\, Upper Hut
 t\, Time: 1:00PM
SUMMARY:Auction for 
END:VEVENT
END:VCALENDAR
