BEGIN:VCALENDAR
VERSION:2.0
PRODID:icalendar-ruby
CALSCALE:GREGORIAN
BEGIN:VEVENT
DTSTAMP:20260423T080022Z
UID:d519f4cc-2bb8-40f9-af4e-111a5e769b6a
DTSTART;VALUE=DATE:20210323
DESCRIPTION:Property ID# 504653\, Locatoin: 897 Fergusson Drive\, Upper Hut
 t\, Time: 1:00PM
SUMMARY:Auction for 
END:VEVENT
END:VCALENDAR
