BEGIN:VCALENDAR
VERSION:2.0
PRODID:icalendar-ruby
CALSCALE:GREGORIAN
BEGIN:VEVENT
DTSTAMP:20260419T164304Z
UID:f3d2175e-4204-4e02-b93c-618e5eb9d261
DTSTART;VALUE=DATE:20210318
DESCRIPTION:Property ID# 503545\, Time: 12:00PM
SUMMARY:Auction for 
END:VEVENT
END:VCALENDAR
