BEGIN:VCALENDAR
VERSION:2.0
PRODID:icalendar-ruby
CALSCALE:GREGORIAN
BEGIN:VEVENT
DTSTAMP:20260423T090904Z
UID:671d5ba4-6d6b-4001-9052-ef4dd1999980
DTSTART;VALUE=DATE:20210224
DESCRIPTION:Property ID# 501835\, Locatoin: Harcourts\, 516 High St\, Lower
  Hutt\, Time: 12:00PM
SUMMARY:Auction for 
END:VEVENT
END:VCALENDAR
