BEGIN:VCALENDAR
VERSION:2.0
PRODID:icalendar-ruby
CALSCALE:GREGORIAN
BEGIN:VEVENT
DTSTAMP:20260420T003115Z
UID:81a9ab23-e4ae-451f-8495-52db8ea3c120
DTSTART;VALUE=DATE:20201222
DESCRIPTION:Property ID# 497604\, Locatoin: 62 Queen Street\, Upper Hutt\, 
 Time: 12:00PM
SUMMARY:Auction for 
END:VEVENT
END:VCALENDAR
