BEGIN:VCALENDAR
VERSION:2.0
PRODID:icalendar-ruby
CALSCALE:GREGORIAN
BEGIN:VEVENT
DTSTAMP:20260424T080113Z
UID:1e305fdb-290c-4383-9fbb-9d164e7b2c3f
DTSTART;VALUE=DATE:20201210
DESCRIPTION:Property ID# 496541\, Locatoin: 62 Queen Street\, Time: 2:00PM
SUMMARY:Auction for 
END:VEVENT
END:VCALENDAR
