BEGIN:VCALENDAR
VERSION:2.0
PRODID:icalendar-ruby
CALSCALE:GREGORIAN
BEGIN:VEVENT
DTSTAMP:20260420T003356Z
UID:c03166f2-e251-4ef9-aec1-bd46bb99e733
DTSTART;VALUE=DATE:20201125
DESCRIPTION:Property ID# 494743\, Locatoin: 62 Queen Street\, Upper Hutt\, 
 Time: 2:00PM
SUMMARY:Auction for 
END:VEVENT
END:VCALENDAR
