BEGIN:VCALENDAR
VERSION:2.0
PRODID:icalendar-ruby
CALSCALE:GREGORIAN
BEGIN:VEVENT
DTSTAMP:20260419T164749Z
UID:ea1b046e-97cf-4c41-9eb1-48e59f40b53d
DTSTART;VALUE=DATE:20201022
DESCRIPTION:Property ID# 491954\, Locatoin: Harcourts\, 516 High St\, Lower
  Hutt\, Time: 2:00PM
SUMMARY:Auction for 
END:VEVENT
END:VCALENDAR
