BEGIN:VCALENDAR
VERSION:2.0
PRODID:icalendar-ruby
CALSCALE:GREGORIAN
BEGIN:VEVENT
DTSTAMP:20260419T215551Z
UID:a894e14c-d840-4797-b5dd-0a06f641528d
DTSTART;VALUE=DATE:20201009
DESCRIPTION:Property ID# 489991\, Locatoin: 62 Queen Street\, Upper Hutt\, 
 Time: 12:00PM
SUMMARY:Auction for 
END:VEVENT
END:VCALENDAR
