BEGIN:VCALENDAR
VERSION:2.0
PRODID:icalendar-ruby
CALSCALE:GREGORIAN
BEGIN:VEVENT
DTSTAMP:20260422T080907Z
UID:85b164f9-8f24-48ba-a86e-0cfe705c8024
DTSTART;VALUE=DATE:20200916
DESCRIPTION:Property ID# 489002\, Locatoin: 31 Main Street\, Upper Hutt (wi
 ll not be sold prior).\, Time: 12:00PM
SUMMARY:Auction for 
END:VEVENT
END:VCALENDAR
